BEGIN:VCALENDAR
VERSION:2.0
PRODID:-//Cornerstone Financial Associates - ECPv6.13.2.1//NONSGML v1.0//EN
CALSCALE:GREGORIAN
METHOD:PUBLISH
X-ORIGINAL-URL:https://cornerstonefra.com
X-WR-CALDESC:Events for Cornerstone Financial Associates
REFRESH-INTERVAL;VALUE=DURATION:PT1H
X-Robots-Tag:noindex
X-PUBLISHED-TTL:PT1H
BEGIN:VTIMEZONE
TZID:America/New_York
BEGIN:DAYLIGHT
TZOFFSETFROM:-0500
TZOFFSETTO:-0400
TZNAME:EDT
DTSTART:20240310T070000
END:DAYLIGHT
BEGIN:STANDARD
TZOFFSETFROM:-0400
TZOFFSETTO:-0500
TZNAME:EST
DTSTART:20241103T060000
END:STANDARD
BEGIN:DAYLIGHT
TZOFFSETFROM:-0500
TZOFFSETTO:-0400
TZNAME:EDT
DTSTART:20250309T070000
END:DAYLIGHT
BEGIN:STANDARD
TZOFFSETFROM:-0400
TZOFFSETTO:-0500
TZNAME:EST
DTSTART:20251102T060000
END:STANDARD
END:VTIMEZONE
BEGIN:VEVENT
DTSTART;TZID=America/New_York:20250328T110000
DTEND;TZID=America/New_York:20250328T133000
DTSTAMP:20260419T164348
CREATED:20240401T210323Z
LAST-MODIFIED:20240401T210323Z
UID:10000856-1743159600-1743168600@cornerstonefra.com
SUMMARY:Cornerstone Mastermind Meeting (Invite Only)
DESCRIPTION:
URL:https://cornerstonefra.com/event/cornerstone-mastermind-meeting-invite-only/2025-03-28/
LOCATION:Red Bank Office\, 320 Broad Street\, Red Bank\, NJ\, 07701\, United States
END:VEVENT
BEGIN:VEVENT
DTSTART;TZID=America/New_York:20250228T110000
DTEND;TZID=America/New_York:20250228T133000
DTSTAMP:20260419T164348
CREATED:20240401T210323Z
LAST-MODIFIED:20240401T210323Z
UID:10000855-1740740400-1740749400@cornerstonefra.com
SUMMARY:Cornerstone Mastermind Meeting (Invite Only)
DESCRIPTION:
URL:https://cornerstonefra.com/event/cornerstone-mastermind-meeting-invite-only/2025-02-28/
LOCATION:Red Bank Office\, 320 Broad Street\, Red Bank\, NJ\, 07701\, United States
END:VEVENT
BEGIN:VEVENT
DTSTART;TZID=America/New_York:20250131T110000
DTEND;TZID=America/New_York:20250131T133000
DTSTAMP:20260419T164348
CREATED:20240401T210323Z
LAST-MODIFIED:20240401T210323Z
UID:10000854-1738321200-1738330200@cornerstonefra.com
SUMMARY:Cornerstone Mastermind Meeting (Invite Only)
DESCRIPTION:
URL:https://cornerstonefra.com/event/cornerstone-mastermind-meeting-invite-only/2025-01-31/
LOCATION:Red Bank Office\, 320 Broad Street\, Red Bank\, NJ\, 07701\, United States
END:VEVENT
BEGIN:VEVENT
DTSTART;TZID=America/New_York:20241227T110000
DTEND;TZID=America/New_York:20241227T133000
DTSTAMP:20260419T164348
CREATED:20240401T210323Z
LAST-MODIFIED:20240401T210323Z
UID:10000853-1735297200-1735306200@cornerstonefra.com
SUMMARY:Cornerstone Mastermind Meeting (Invite Only)
DESCRIPTION:
URL:https://cornerstonefra.com/event/cornerstone-mastermind-meeting-invite-only/2024-12-27/
LOCATION:Red Bank Office\, 320 Broad Street\, Red Bank\, NJ\, 07701\, United States
END:VEVENT
BEGIN:VEVENT
DTSTART;TZID=America/New_York:20241129T110000
DTEND;TZID=America/New_York:20241129T133000
DTSTAMP:20260419T164348
CREATED:20240401T210323Z
LAST-MODIFIED:20240401T210323Z
UID:10000852-1732878000-1732887000@cornerstonefra.com
SUMMARY:Cornerstone Mastermind Meeting (Invite Only)
DESCRIPTION:
URL:https://cornerstonefra.com/event/cornerstone-mastermind-meeting-invite-only/2024-11-29/
LOCATION:Red Bank Office\, 320 Broad Street\, Red Bank\, NJ\, 07701\, United States
END:VEVENT
BEGIN:VEVENT
DTSTART;TZID=America/New_York:20241025T110000
DTEND;TZID=America/New_York:20241025T133000
DTSTAMP:20260419T164348
CREATED:20240401T210323Z
LAST-MODIFIED:20240401T210323Z
UID:10000851-1729854000-1729863000@cornerstonefra.com
SUMMARY:Cornerstone Mastermind Meeting (Invite Only)
DESCRIPTION:
URL:https://cornerstonefra.com/event/cornerstone-mastermind-meeting-invite-only/2024-10-25/
LOCATION:Red Bank Office\, 320 Broad Street\, Red Bank\, NJ\, 07701\, United States
END:VEVENT
BEGIN:VEVENT
DTSTART;TZID=America/New_York:20240927T110000
DTEND;TZID=America/New_York:20240927T133000
DTSTAMP:20260419T164348
CREATED:20240401T210323Z
LAST-MODIFIED:20240401T210323Z
UID:10000850-1727434800-1727443800@cornerstonefra.com
SUMMARY:Cornerstone Mastermind Meeting (Invite Only)
DESCRIPTION:
URL:https://cornerstonefra.com/event/cornerstone-mastermind-meeting-invite-only/2024-09-27/
LOCATION:Red Bank Office\, 320 Broad Street\, Red Bank\, NJ\, 07701\, United States
END:VEVENT
BEGIN:VEVENT
DTSTART;TZID=America/New_York:20240830T110000
DTEND;TZID=America/New_York:20240830T133000
DTSTAMP:20260419T164348
CREATED:20240401T210323Z
LAST-MODIFIED:20240401T210323Z
UID:10000849-1725015600-1725024600@cornerstonefra.com
SUMMARY:Cornerstone Mastermind Meeting (Invite Only)
DESCRIPTION:
URL:https://cornerstonefra.com/event/cornerstone-mastermind-meeting-invite-only/2024-08-30/
LOCATION:Red Bank Office\, 320 Broad Street\, Red Bank\, NJ\, 07701\, United States
END:VEVENT
BEGIN:VEVENT
DTSTART;TZID=America/New_York:20240726T110000
DTEND;TZID=America/New_York:20240726T133000
DTSTAMP:20260419T164348
CREATED:20240401T210323Z
LAST-MODIFIED:20240401T210323Z
UID:10000848-1721991600-1722000600@cornerstonefra.com
SUMMARY:Cornerstone Mastermind Meeting (Invite Only)
DESCRIPTION:
URL:https://cornerstonefra.com/event/cornerstone-mastermind-meeting-invite-only/2024-07-26/
LOCATION:Red Bank Office\, 320 Broad Street\, Red Bank\, NJ\, 07701\, United States
END:VEVENT
BEGIN:VEVENT
DTSTART;TZID=America/New_York:20240628T110000
DTEND;TZID=America/New_York:20240628T133000
DTSTAMP:20260419T164348
CREATED:20240401T210323Z
LAST-MODIFIED:20240401T210323Z
UID:10000847-1719572400-1719581400@cornerstonefra.com
SUMMARY:Cornerstone Mastermind Meeting (Invite Only)
DESCRIPTION:
URL:https://cornerstonefra.com/event/cornerstone-mastermind-meeting-invite-only/2024-06-28/
LOCATION:Red Bank Office\, 320 Broad Street\, Red Bank\, NJ\, 07701\, United States
END:VEVENT
BEGIN:VEVENT
DTSTART;TZID=America/New_York:20240531T110000
DTEND;TZID=America/New_York:20240531T133000
DTSTAMP:20260419T164348
CREATED:20240401T210323Z
LAST-MODIFIED:20240401T210323Z
UID:10000846-1717153200-1717162200@cornerstonefra.com
SUMMARY:Cornerstone Mastermind Meeting (Invite Only)
DESCRIPTION:
URL:https://cornerstonefra.com/event/cornerstone-mastermind-meeting-invite-only/2024-05-31/
LOCATION:Red Bank Office\, 320 Broad Street\, Red Bank\, NJ\, 07701\, United States
END:VEVENT
BEGIN:VEVENT
DTSTART;TZID=America/New_York:20240426T110000
DTEND;TZID=America/New_York:20240426T133000
DTSTAMP:20260419T164348
CREATED:20240401T210323Z
LAST-MODIFIED:20240401T210323Z
UID:10000845-1714129200-1714138200@cornerstonefra.com
SUMMARY:Cornerstone Mastermind Meeting (Invite Only)
DESCRIPTION:
URL:https://cornerstonefra.com/event/cornerstone-mastermind-meeting-invite-only/2024-04-26/
LOCATION:Red Bank Office\, 320 Broad Street\, Red Bank\, NJ\, 07701\, United States
END:VEVENT
END:VCALENDAR